BEGIN:VCALENDAR
VERSION:2.0
PRODID:-// - ECPv6.15.20//NONSGML v1.0//EN
CALSCALE:GREGORIAN
METHOD:PUBLISH
X-ORIGINAL-URL:https://hamptonfbc.org
X-WR-CALDESC:Events for 
REFRESH-INTERVAL;VALUE=DURATION:PT1H
X-Robots-Tag:noindex
X-PUBLISHED-TTL:PT1H
BEGIN:VTIMEZONE
TZID:America/New_York
BEGIN:DAYLIGHT
TZOFFSETFROM:-0500
TZOFFSETTO:-0400
TZNAME:EDT
DTSTART:20230312T070000
END:DAYLIGHT
BEGIN:STANDARD
TZOFFSETFROM:-0400
TZOFFSETTO:-0500
TZNAME:EST
DTSTART:20231105T060000
END:STANDARD
BEGIN:DAYLIGHT
TZOFFSETFROM:-0500
TZOFFSETTO:-0400
TZNAME:EDT
DTSTART:20240310T070000
END:DAYLIGHT
BEGIN:STANDARD
TZOFFSETFROM:-0400
TZOFFSETTO:-0500
TZNAME:EST
DTSTART:20241103T060000
END:STANDARD
BEGIN:DAYLIGHT
TZOFFSETFROM:-0500
TZOFFSETTO:-0400
TZNAME:EDT
DTSTART:20250309T070000
END:DAYLIGHT
BEGIN:STANDARD
TZOFFSETFROM:-0400
TZOFFSETTO:-0500
TZNAME:EST
DTSTART:20251102T060000
END:STANDARD
END:VTIMEZONE
BEGIN:VEVENT
DTSTART;TZID=America/New_York:20241013T000000
DTEND;TZID=America/New_York:20241110T235959
DTSTAMP:20260421T151259
CREATED:20240913T200624Z
LAST-MODIFIED:20241014T161038Z
UID:1863-1728777600-1731283199@hamptonfbc.org
SUMMARY:Operation Christmas Child Shoeboxes
DESCRIPTION:We surpassed our goal last year\, so we’ve raised the goal this year to 400 shoeboxes! Preprinted shoeboxes will be available soon for pick up. Please pick up a box\, or two or three\, and bring them back filled on Sun Nov 10. You can also build a box online! If you do\, please use the link on our website to count your box in our goal! \n\n\n\n\nONLINE BOX
URL:https://hamptonfbc.org/event/operation-christmas-child-shoebox-kickoff/
CATEGORIES:ADULT,KIDS,YOUTH
ATTACH;FMTTYPE=image/png:https://hamptonfbc.org/wp-content/uploads/2023/11/OCC-Logo.png
END:VEVENT
BEGIN:VEVENT
DTSTART;TZID=America/New_York:20241108T180000
DTEND;TZID=America/New_York:20241109T080000
DTSTAMP:20260421T151259
CREATED:20241014T155945Z
LAST-MODIFIED:20241014T160915Z
UID:2003-1731088800-1731139200@hamptonfbc.org
SUMMARY:Student - Lock In
DESCRIPTION:The H1 Lock In is an all night event full of activities like games\, skits\, crafts\, and food. Don’t miss out on this opportunity to hang out with friends and make awesome memories together! We will have a “quiet room” available for those who need to rest\, so bring a pillow and a blanket if you want. We will finish up with a pancake breakfast at 7am the next morning. \n\n\n\n\nSIGN UP HERE
URL:https://hamptonfbc.org/event/student-lock-in/
CATEGORIES:YOUTH
END:VEVENT
END:VCALENDAR