BEGIN:VCALENDAR
VERSION:2.0
PRODID:-// - ECPv6.15.20//NONSGML v1.0//EN
CALSCALE:GREGORIAN
METHOD:PUBLISH
X-ORIGINAL-URL:https://hamptonfbc.org
X-WR-CALDESC:Events for 
REFRESH-INTERVAL;VALUE=DURATION:PT1H
X-Robots-Tag:noindex
X-PUBLISHED-TTL:PT1H
BEGIN:VTIMEZONE
TZID:America/New_York
BEGIN:DAYLIGHT
TZOFFSETFROM:-0500
TZOFFSETTO:-0400
TZNAME:EDT
DTSTART:20250309T070000
END:DAYLIGHT
BEGIN:STANDARD
TZOFFSETFROM:-0400
TZOFFSETTO:-0500
TZNAME:EST
DTSTART:20251102T060000
END:STANDARD
BEGIN:DAYLIGHT
TZOFFSETFROM:-0500
TZOFFSETTO:-0400
TZNAME:EDT
DTSTART:20260308T070000
END:DAYLIGHT
BEGIN:STANDARD
TZOFFSETFROM:-0400
TZOFFSETTO:-0500
TZNAME:EST
DTSTART:20261101T060000
END:STANDARD
BEGIN:DAYLIGHT
TZOFFSETFROM:-0500
TZOFFSETTO:-0400
TZNAME:EDT
DTSTART:20270314T070000
END:DAYLIGHT
BEGIN:STANDARD
TZOFFSETFROM:-0400
TZOFFSETTO:-0500
TZNAME:EST
DTSTART:20271107T060000
END:STANDARD
END:VTIMEZONE
BEGIN:VEVENT
DTSTART;TZID=America/New_York:20260329T173000
DTEND;TZID=America/New_York:20260329T190000
DTSTAMP:20260419T092827
CREATED:20240227T155434Z
LAST-MODIFIED:20260217T232713Z
UID:1291-1774805400-1774810800@hamptonfbc.org
SUMMARY:EASTER EGG HUNT & COOKOUT
DESCRIPTION:Please join us for an egg-citing day of fun\, inflatables & food! Our hunt isfor kids 2yrs-5th grade. Grab your baskets and invite your neighbors andfriends!  \n\n\n\nCandy filled egg donations needed!
URL:https://hamptonfbc.org/event/easter-egg-hunt-cookout/
CATEGORIES:ADULT,KIDS,YOUTH
ATTACH;FMTTYPE=image/jpeg:https://hamptonfbc.org/wp-content/uploads/2024/02/Egg-Hunt-Cookout-2026.jpg
END:VEVENT
END:VCALENDAR