BEGIN:VCALENDAR
VERSION:2.0
PRODID:-// - ECPv6.15.20//NONSGML v1.0//EN
CALSCALE:GREGORIAN
METHOD:PUBLISH
X-ORIGINAL-URL:https://hamptonfbc.org
X-WR-CALDESC:Events for 
REFRESH-INTERVAL;VALUE=DURATION:PT1H
X-Robots-Tag:noindex
X-PUBLISHED-TTL:PT1H
BEGIN:VTIMEZONE
TZID:America/New_York
BEGIN:DAYLIGHT
TZOFFSETFROM:-0500
TZOFFSETTO:-0400
TZNAME:EDT
DTSTART:20240310T070000
END:DAYLIGHT
BEGIN:STANDARD
TZOFFSETFROM:-0400
TZOFFSETTO:-0500
TZNAME:EST
DTSTART:20241103T060000
END:STANDARD
BEGIN:DAYLIGHT
TZOFFSETFROM:-0500
TZOFFSETTO:-0400
TZNAME:EDT
DTSTART:20250309T070000
END:DAYLIGHT
BEGIN:STANDARD
TZOFFSETFROM:-0400
TZOFFSETTO:-0500
TZNAME:EST
DTSTART:20251102T060000
END:STANDARD
BEGIN:DAYLIGHT
TZOFFSETFROM:-0500
TZOFFSETTO:-0400
TZNAME:EDT
DTSTART:20260308T070000
END:DAYLIGHT
BEGIN:STANDARD
TZOFFSETFROM:-0400
TZOFFSETTO:-0500
TZNAME:EST
DTSTART:20261101T060000
END:STANDARD
END:VTIMEZONE
BEGIN:VEVENT
DTSTART;TZID=America/New_York:20250727T103000
DTEND;TZID=America/New_York:20250727T103000
DTSTAMP:20260420T084758
CREATED:20240705T201222Z
LAST-MODIFIED:20250624T214927Z
UID:1710-1753612200-1753612200@hamptonfbc.org
SUMMARY:Teacher & Staff Recognition Sunday
DESCRIPTION:We would like to recognize everyone that works in education on Sunday\, July 27th during our worship service. Please join us or invite someone you know that works in education to join us on that Sunday for a time or prayer and recognition.
URL:https://hamptonfbc.org/event/teacher-staff-recognition-sunday/
CATEGORIES:ADULT
ATTACH;FMTTYPE=image/jpeg:https://hamptonfbc.org/wp-content/uploads/2025/06/TeacherRecognitionSunday.jpg
END:VEVENT
END:VCALENDAR