BEGIN:VCALENDAR
VERSION:2.0
PRODID:-// - ECPv6.15.20//NONSGML v1.0//EN
CALSCALE:GREGORIAN
METHOD:PUBLISH
X-ORIGINAL-URL:https://hamptonfbc.org
X-WR-CALDESC:Events for 
REFRESH-INTERVAL;VALUE=DURATION:PT1H
X-Robots-Tag:noindex
X-PUBLISHED-TTL:PT1H
BEGIN:VTIMEZONE
TZID:America/New_York
BEGIN:DAYLIGHT
TZOFFSETFROM:-0500
TZOFFSETTO:-0400
TZNAME:EDT
DTSTART:20240310T070000
END:DAYLIGHT
BEGIN:STANDARD
TZOFFSETFROM:-0400
TZOFFSETTO:-0500
TZNAME:EST
DTSTART:20241103T060000
END:STANDARD
BEGIN:DAYLIGHT
TZOFFSETFROM:-0500
TZOFFSETTO:-0400
TZNAME:EDT
DTSTART:20250309T070000
END:DAYLIGHT
BEGIN:STANDARD
TZOFFSETFROM:-0400
TZOFFSETTO:-0500
TZNAME:EST
DTSTART:20251102T060000
END:STANDARD
BEGIN:DAYLIGHT
TZOFFSETFROM:-0500
TZOFFSETTO:-0400
TZNAME:EDT
DTSTART:20260308T070000
END:DAYLIGHT
BEGIN:STANDARD
TZOFFSETFROM:-0400
TZOFFSETTO:-0500
TZNAME:EST
DTSTART:20261101T060000
END:STANDARD
END:VTIMEZONE
BEGIN:VEVENT
DTSTART;TZID=America/New_York:20250724T000000
DTEND;TZID=America/New_York:20250724T235959
DTSTAMP:20260420T084554
CREATED:20240205T215217Z
LAST-MODIFIED:20250610T165214Z
UID:1231-1753315200-1753401599@hamptonfbc.org
SUMMARY:Golden Age Trip
DESCRIPTION:Golden Age group is going to the Southeastern Railroad Museum in Duluth\, GA on  Thursday\, July 24th.  The cost is $16 each for seniors 65+.  \n\n\n\nWe need anyone interested in going to sign up in the foyer at the church or contact the church office.  If you are interested in going please make sure you are signed up and paid no later than Sunday\, July 20th.  If paying with a check\, please make them out to Hampton First Baptist.  \n\n\n\nOn July 24th\, We will meet at the church at 9:30 AM and leave by 9:45 AM.   \n\n\n\nYou can check out the museum at this link: https://www.train-museum.org/plan-your-visit/ \n\n\n\nAnyone with questions can contact Chuck Sheppard or Leon Wheeler.  \n\n\n\nPlease sign up and pay by Sunday\, July 20th.  
URL:https://hamptonfbc.org/event/golden-age-trip/
CATEGORIES:ADULT
ATTACH;FMTTYPE=image/jpeg:https://hamptonfbc.org/wp-content/uploads/2024/02/GoldenAgeTrip.jpg
END:VEVENT
END:VCALENDAR