BEGIN:VCALENDAR
VERSION:2.0
PRODID:-// - ECPv6.15.20//NONSGML v1.0//EN
CALSCALE:GREGORIAN
METHOD:PUBLISH
X-ORIGINAL-URL:https://hamptonfbc.org
X-WR-CALDESC:Events for 
REFRESH-INTERVAL;VALUE=DURATION:PT1H
X-Robots-Tag:noindex
X-PUBLISHED-TTL:PT1H
BEGIN:VTIMEZONE
TZID:America/New_York
BEGIN:DAYLIGHT
TZOFFSETFROM:-0500
TZOFFSETTO:-0400
TZNAME:EDT
DTSTART:20240310T070000
END:DAYLIGHT
BEGIN:STANDARD
TZOFFSETFROM:-0400
TZOFFSETTO:-0500
TZNAME:EST
DTSTART:20241103T060000
END:STANDARD
BEGIN:DAYLIGHT
TZOFFSETFROM:-0500
TZOFFSETTO:-0400
TZNAME:EDT
DTSTART:20250309T070000
END:DAYLIGHT
BEGIN:STANDARD
TZOFFSETFROM:-0400
TZOFFSETTO:-0500
TZNAME:EST
DTSTART:20251102T060000
END:STANDARD
BEGIN:DAYLIGHT
TZOFFSETFROM:-0500
TZOFFSETTO:-0400
TZNAME:EDT
DTSTART:20260308T070000
END:DAYLIGHT
BEGIN:STANDARD
TZOFFSETFROM:-0400
TZOFFSETTO:-0500
TZNAME:EST
DTSTART:20261101T060000
END:STANDARD
END:VTIMEZONE
BEGIN:VEVENT
DTSTART;TZID=America/New_York:20250702T183000
DTEND;TZID=America/New_York:20250702T183000
DTSTAMP:20260420T072727
CREATED:20250624T214727Z
LAST-MODIFIED:20250624T214729Z
UID:2641-1751481000-1751481000@hamptonfbc.org
SUMMARY:Family Picnic
DESCRIPTION:Wednesday July 2nd\, we will meet at East Hampton Community Park and enjoy a Family Picnic.  This will be in leu of our normal Wednesday evening events.  Please join us and bring a side dish or dessert to share.  Hot dogs will be provided by the church.   \n\n\n\nAlso\, please bring chairs and lawn games like corn hole and lets all have fun celebrating together.
URL:https://hamptonfbc.org/event/family-picnic/
CATEGORIES:ADULT,KIDS,YOUTH
ATTACH;FMTTYPE=image/jpeg:https://hamptonfbc.org/wp-content/uploads/2025/06/Family-Picnic-2025.jpg
END:VEVENT
END:VCALENDAR