BEGIN:VCALENDAR
VERSION:2.0
PRODID:-// - ECPv6.15.20//NONSGML v1.0//EN
CALSCALE:GREGORIAN
METHOD:PUBLISH
X-ORIGINAL-URL:https://hamptonfbc.org
X-WR-CALDESC:Events for 
REFRESH-INTERVAL;VALUE=DURATION:PT1H
X-Robots-Tag:noindex
X-PUBLISHED-TTL:PT1H
BEGIN:VTIMEZONE
TZID:America/New_York
BEGIN:DAYLIGHT
TZOFFSETFROM:-0500
TZOFFSETTO:-0400
TZNAME:EDT
DTSTART:20240310T070000
END:DAYLIGHT
BEGIN:STANDARD
TZOFFSETFROM:-0400
TZOFFSETTO:-0500
TZNAME:EST
DTSTART:20241103T060000
END:STANDARD
BEGIN:DAYLIGHT
TZOFFSETFROM:-0500
TZOFFSETTO:-0400
TZNAME:EDT
DTSTART:20250309T070000
END:DAYLIGHT
BEGIN:STANDARD
TZOFFSETFROM:-0400
TZOFFSETTO:-0500
TZNAME:EST
DTSTART:20251102T060000
END:STANDARD
BEGIN:DAYLIGHT
TZOFFSETFROM:-0500
TZOFFSETTO:-0400
TZNAME:EDT
DTSTART:20260308T070000
END:DAYLIGHT
BEGIN:STANDARD
TZOFFSETFROM:-0400
TZOFFSETTO:-0500
TZNAME:EST
DTSTART:20261101T060000
END:STANDARD
END:VTIMEZONE
BEGIN:VEVENT
DTSTART;TZID=America/New_York:20250420T000000
DTEND;TZID=America/New_York:20250420T235959
DTSTAMP:20260420T074842
CREATED:20240229T213932Z
LAST-MODIFIED:20250313T171139Z
UID:1297-1745107200-1745193599@hamptonfbc.org
SUMMARY:EASTER SUNDAY
DESCRIPTION:Service Time: 9:00 AM & 10:30 AM\n\n\n\nPlease join us for Easter and invite your family and friends. Preschool\, Kids and Student Life Groups will meet at 9:00 AM\, NO Adult Life Groups. Kids Worship and Nursery will meet at 10:30 AM. Coffee and Doughnuts will be available at 10:00 AM.
URL:https://hamptonfbc.org/event/easter-sunday/
CATEGORIES:ADULT,KIDS,YOUTH
ATTACH;FMTTYPE=image/jpeg:https://hamptonfbc.org/wp-content/uploads/2024/02/Easter2025_Main.jpg
END:VEVENT
END:VCALENDAR