BEGIN:VCALENDAR
VERSION:2.0
PRODID:-// - ECPv6.15.20//NONSGML v1.0//EN
CALSCALE:GREGORIAN
METHOD:PUBLISH
X-ORIGINAL-URL:https://hamptonfbc.org
X-WR-CALDESC:Events for 
REFRESH-INTERVAL;VALUE=DURATION:PT1H
X-Robots-Tag:noindex
X-PUBLISHED-TTL:PT1H
BEGIN:VTIMEZONE
TZID:America/New_York
BEGIN:DAYLIGHT
TZOFFSETFROM:-0500
TZOFFSETTO:-0400
TZNAME:EDT
DTSTART:20230312T070000
END:DAYLIGHT
BEGIN:STANDARD
TZOFFSETFROM:-0400
TZOFFSETTO:-0500
TZNAME:EST
DTSTART:20231105T060000
END:STANDARD
BEGIN:DAYLIGHT
TZOFFSETFROM:-0500
TZOFFSETTO:-0400
TZNAME:EDT
DTSTART:20240310T070000
END:DAYLIGHT
BEGIN:STANDARD
TZOFFSETFROM:-0400
TZOFFSETTO:-0500
TZNAME:EST
DTSTART:20241103T060000
END:STANDARD
BEGIN:DAYLIGHT
TZOFFSETFROM:-0500
TZOFFSETTO:-0400
TZNAME:EDT
DTSTART:20250309T070000
END:DAYLIGHT
BEGIN:STANDARD
TZOFFSETFROM:-0400
TZOFFSETTO:-0500
TZNAME:EST
DTSTART:20251102T060000
END:STANDARD
END:VTIMEZONE
BEGIN:VEVENT
DTSTART;TZID=America/New_York:20241115T170000
DTEND;TZID=America/New_York:20241115T200000
DTSTAMP:20260420T151931
CREATED:20241029T145342Z
LAST-MODIFIED:20241029T145345Z
UID:2022-1731690000-1731700800@hamptonfbc.org
SUMMARY:Parents Night Out
DESCRIPTION:BED BABIES -> 5TH GRADE \n\n\n\nJoin us for a night of fun with our Parents Night Out! Treat yourself to a night out while we have a blast at the church\, eating pizza\, playing games\, making awesome crafts and having fun!  Participating ages are bed babies through 5th Grade. \n\n\n\nDonations will be accepted and all of the funds will be for our participating middle/high school students summer camp fund. \n\n\n\n\nSIGN UP HERE
URL:https://hamptonfbc.org/event/parents-night-out/
CATEGORIES:ADULT,KIDS,YOUTH
END:VEVENT
END:VCALENDAR