BEGIN:VCALENDAR
VERSION:2.0
PRODID:-// - ECPv6.15.20//NONSGML v1.0//EN
CALSCALE:GREGORIAN
METHOD:PUBLISH
X-ORIGINAL-URL:https://hamptonfbc.org
X-WR-CALDESC:Events for 
REFRESH-INTERVAL;VALUE=DURATION:PT1H
X-Robots-Tag:noindex
X-PUBLISHED-TTL:PT1H
BEGIN:VTIMEZONE
TZID:America/New_York
BEGIN:DAYLIGHT
TZOFFSETFROM:-0500
TZOFFSETTO:-0400
TZNAME:EDT
DTSTART:20240310T070000
END:DAYLIGHT
BEGIN:STANDARD
TZOFFSETFROM:-0400
TZOFFSETTO:-0500
TZNAME:EST
DTSTART:20241103T060000
END:STANDARD
BEGIN:DAYLIGHT
TZOFFSETFROM:-0500
TZOFFSETTO:-0400
TZNAME:EDT
DTSTART:20250309T070000
END:DAYLIGHT
BEGIN:STANDARD
TZOFFSETFROM:-0400
TZOFFSETTO:-0500
TZNAME:EST
DTSTART:20251102T060000
END:STANDARD
BEGIN:DAYLIGHT
TZOFFSETFROM:-0500
TZOFFSETTO:-0400
TZNAME:EDT
DTSTART:20260308T070000
END:DAYLIGHT
BEGIN:STANDARD
TZOFFSETFROM:-0400
TZOFFSETTO:-0500
TZNAME:EST
DTSTART:20261101T060000
END:STANDARD
END:VTIMEZONE
BEGIN:VEVENT
DTSTART;TZID=America/New_York:20250418T180000
DTEND;TZID=America/New_York:20250418T180000
DTSTAMP:20260420T061014
CREATED:20240315T181638Z
LAST-MODIFIED:20250313T171705Z
UID:1329-1744999200-1744999200@hamptonfbc.org
SUMMARY:GOOD FRIDAY SERVICE
DESCRIPTION:Good Friday Service – Friday\, April 18 @ 6:00 PM – Please make your plans to join us.
URL:https://hamptonfbc.org/event/good-friday-service/
CATEGORIES:ADULT
ATTACH;FMTTYPE=image/jpeg:https://hamptonfbc.org/wp-content/uploads/2024/03/Easter2025_GoodFriday.jpg
END:VEVENT
BEGIN:VEVENT
DTSTART;TZID=America/New_York:20250420T000000
DTEND;TZID=America/New_York:20250420T235959
DTSTAMP:20260420T061014
CREATED:20240229T213932Z
LAST-MODIFIED:20250313T171139Z
UID:1297-1745107200-1745193599@hamptonfbc.org
SUMMARY:EASTER SUNDAY
DESCRIPTION:Service Time: 9:00 AM & 10:30 AM\n\n\n\nPlease join us for Easter and invite your family and friends. Preschool\, Kids and Student Life Groups will meet at 9:00 AM\, NO Adult Life Groups. Kids Worship and Nursery will meet at 10:30 AM. Coffee and Doughnuts will be available at 10:00 AM.
URL:https://hamptonfbc.org/event/easter-sunday/
CATEGORIES:ADULT,KIDS,YOUTH
ATTACH;FMTTYPE=image/jpeg:https://hamptonfbc.org/wp-content/uploads/2024/02/Easter2025_Main.jpg
END:VEVENT
BEGIN:VEVENT
DTSTART;TZID=America/New_York:20250427T090000
DTEND;TZID=America/New_York:20250427T090000
DTSTAMP:20260420T061014
CREATED:20250416T221146Z
LAST-MODIFIED:20250421T151053Z
UID:2519-1745744400-1745744400@hamptonfbc.org
SUMMARY:Parent Commissioning Class
DESCRIPTION:At Hampton FBC\, we believe that children are a beautiful gift from God! (Psalms 127:3) Parent Commissioning is an opportunity for parents who are believers to present their child before God and the church\, committing to be intentional in teaching and modeling what it looks like to follow Christ to their child. As a church family\, we celebrate our parents’ commitment to live out Proverbs 22:6 “Train up a child in the way he should go\, and when he is old\, he will not turn from it.”We will hold our Parent Commissioning Class on April 27th @ 9:00 AM during Life Groups. If you plan to be a part of the Parent Commissioning on May 4th\, please make plans to attend this class.  Click Register below to sign up. \n\n\n\n\nREGISTER
URL:https://hamptonfbc.org/event/parent-commissioning-class/
CATEGORIES:ADULT
ATTACH;FMTTYPE=image/png:https://hamptonfbc.org/wp-content/uploads/2025/04/Add-a-heading.png
END:VEVENT
END:VCALENDAR